BEGIN:VCALENDAR
VERSION:2.0
PRODID:-//Pleasant Hill Baptist Church - ECPv6.15.20//NONSGML v1.0//EN
CALSCALE:GREGORIAN
METHOD:PUBLISH
X-WR-CALNAME:Pleasant Hill Baptist Church
X-ORIGINAL-URL:https://www.phbcelkin.com
X-WR-CALDESC:Events for Pleasant Hill Baptist Church
REFRESH-INTERVAL;VALUE=DURATION:PT1H
X-Robots-Tag:noindex
X-PUBLISHED-TTL:PT1H
BEGIN:VTIMEZONE
TZID:America/New_York
BEGIN:DAYLIGHT
TZOFFSETFROM:-0500
TZOFFSETTO:-0400
TZNAME:EDT
DTSTART:20240310T070000
END:DAYLIGHT
BEGIN:STANDARD
TZOFFSETFROM:-0400
TZOFFSETTO:-0500
TZNAME:EST
DTSTART:20241103T060000
END:STANDARD
BEGIN:DAYLIGHT
TZOFFSETFROM:-0500
TZOFFSETTO:-0400
TZNAME:EDT
DTSTART:20250309T070000
END:DAYLIGHT
BEGIN:STANDARD
TZOFFSETFROM:-0400
TZOFFSETTO:-0500
TZNAME:EST
DTSTART:20251102T060000
END:STANDARD
BEGIN:DAYLIGHT
TZOFFSETFROM:-0500
TZOFFSETTO:-0400
TZNAME:EDT
DTSTART:20260308T070000
END:DAYLIGHT
BEGIN:STANDARD
TZOFFSETFROM:-0400
TZOFFSETTO:-0500
TZNAME:EST
DTSTART:20261101T060000
END:STANDARD
BEGIN:DAYLIGHT
TZOFFSETFROM:-0500
TZOFFSETTO:-0400
TZNAME:EDT
DTSTART:20270314T070000
END:DAYLIGHT
BEGIN:STANDARD
TZOFFSETFROM:-0400
TZOFFSETTO:-0500
TZNAME:EST
DTSTART:20271107T060000
END:STANDARD
END:VTIMEZONE
BEGIN:VEVENT
DTSTART;TZID=America/New_York:20251207T183000
DTEND;TZID=America/New_York:20251207T193000
DTSTAMP:20260423T170328
CREATED:20251113T185345Z
LAST-MODIFIED:20251113T185345Z
UID:3312-1765132200-1765135800@www.phbcelkin.com
SUMMARY:Children's Christmas Musical
DESCRIPTION:
URL:https://www.phbcelkin.com/event/childrens-christmas-musical/
LOCATION:Pleasant Hill Baptist Church\, 593 Pleasant Hill Dr.\, Elkin\, NC\, 28621\, United States
CATEGORIES:Children,Christmas,Holiday
ATTACH;FMTTYPE=image/png:https://www.phbcelkin.com/wp-content/uploads/2025/11/2025-kids-musical-event.png
END:VEVENT
BEGIN:VEVENT
DTSTART;TZID=America/New_York:20251213T180000
DTEND;TZID=America/New_York:20251213T210000
DTSTAMP:20260423T170328
CREATED:20251106T142635Z
LAST-MODIFIED:20251106T142635Z
UID:3259-1765648800-1765659600@www.phbcelkin.com
SUMMARY:Live Nativity
DESCRIPTION:NEW THS YEAR: Indoor waiting and 4 new scenes! \nJoin us for a live nativity experience. New groups begin every 10 minutes starting at 6:00 pm. Enjoy live music and snacks at our indoor waiting area! This event is handicap friendly.
URL:https://www.phbcelkin.com/event/live-nativity-2/
LOCATION:Pleasant Hill Baptist Church\, 593 Pleasant Hill Dr.\, Elkin\, NC\, 28621\, United States
CATEGORIES:Christmas,Holiday
ATTACH;FMTTYPE=image/png:https://www.phbcelkin.com/wp-content/uploads/2025/11/nativity2025.png
END:VEVENT
BEGIN:VEVENT
DTSTART;TZID=America/New_York:20260412T100000
DTEND;TZID=America/New_York:20260412T170000
DTSTAMP:20260423T170328
CREATED:20260212T212244Z
LAST-MODIFIED:20260407T131242Z
UID:3765-1775988000-1776013200@www.phbcelkin.com
SUMMARY:Easter Worship Celebration
DESCRIPTION:
URL:https://www.phbcelkin.com/event/easter-worship-celebration/
LOCATION:Pleasant Hill Baptist Church\, 593 Pleasant Hill Dr.\, Elkin\, NC\, 28621\, United States
CATEGORIES:Easter,Holiday
ATTACH;FMTTYPE=image/png:https://www.phbcelkin.com/wp-content/uploads/2026/02/The-Cross.png
END:VEVENT
BEGIN:VEVENT
DTSTART;TZID=America/New_York:20260521T183000
DTEND;TZID=America/New_York:20260521T200000
DTSTAMP:20260423T170328
CREATED:20260217T211924Z
LAST-MODIFIED:20260217T211924Z
UID:3796-1779388200-1779393600@www.phbcelkin.com
SUMMARY:Pre-K Graduation
DESCRIPTION:
URL:https://www.phbcelkin.com/event/pre-k-graduation/
LOCATION:Pleasant Hill Baptist Church\, 593 Pleasant Hill Dr.\, Elkin\, NC\, 28621\, United States
ATTACH;FMTTYPE=image/png:https://www.phbcelkin.com/wp-content/uploads/2026/02/daycare.png
END:VEVENT
BEGIN:VEVENT
DTSTART;TZID=America/New_York:20260524T100000
DTEND;TZID=America/New_York:20260524T110000
DTSTAMP:20260423T170328
CREATED:20250430T142318Z
LAST-MODIFIED:20260317T140248Z
UID:1887-1779616800-1779620400@www.phbcelkin.com
SUMMARY:Graduate Recognition
DESCRIPTION:We will recognize all of our high school and college graduates during the morning service on May 24.
URL:https://www.phbcelkin.com/event/graduate-recognition-2/
LOCATION:Pleasant Hill Baptist Church\, 593 Pleasant Hill Dr.\, Elkin\, NC\, 28621\, United States
CATEGORIES:Youth
ATTACH;FMTTYPE=image/png:https://www.phbcelkin.com/wp-content/uploads/2024/04/graduate-recognition.png
END:VEVENT
BEGIN:VEVENT
DTSTART;TZID=America/New_York:20260607T190000
DTEND;TZID=America/New_York:20260610T200000
DTSTAMP:20260423T170328
CREATED:20260212T212403Z
LAST-MODIFIED:20260212T212403Z
UID:3773-1780858800-1781121600@www.phbcelkin.com
SUMMARY:Revival
DESCRIPTION:
URL:https://www.phbcelkin.com/event/revival/
LOCATION:Pleasant Hill Baptist Church\, 593 Pleasant Hill Dr.\, Elkin\, NC\, 28621\, United States
ATTACH;FMTTYPE=image/png:https://www.phbcelkin.com/wp-content/uploads/2026/02/revive_us_lord.png
END:VEVENT
BEGIN:VEVENT
DTSTART;TZID=America/New_York:20260705T180000
DTEND;TZID=America/New_York:20260709T203000
DTSTAMP:20260423T170328
CREATED:20260212T212506Z
LAST-MODIFIED:20260212T212506Z
UID:3775-1783274400-1783629000@www.phbcelkin.com
SUMMARY:Vacation Bible School
DESCRIPTION:
URL:https://www.phbcelkin.com/event/vacation-bible-school-2/
LOCATION:Pleasant Hill Baptist Church\, 593 Pleasant Hill Dr.\, Elkin\, NC\, 28621\, United States
CATEGORIES:Children,Vacation Bible School,Youth
ATTACH;FMTTYPE=image/png:https://www.phbcelkin.com/wp-content/uploads/2026/02/Main.png
END:VEVENT
END:VCALENDAR