BEGIN:VCALENDAR
VERSION:2.0
PRODID:-//Pleasant Hill Baptist Church - ECPv6.15.20//NONSGML v1.0//EN
CALSCALE:GREGORIAN
METHOD:PUBLISH
X-ORIGINAL-URL:https://www.phbcelkin.com
X-WR-CALDESC:Events for Pleasant Hill Baptist Church
REFRESH-INTERVAL;VALUE=DURATION:PT1H
X-Robots-Tag:noindex
X-PUBLISHED-TTL:PT1H
BEGIN:VTIMEZONE
TZID:America/New_York
BEGIN:DAYLIGHT
TZOFFSETFROM:-0500
TZOFFSETTO:-0400
TZNAME:EDT
DTSTART:20230312T070000
END:DAYLIGHT
BEGIN:STANDARD
TZOFFSETFROM:-0400
TZOFFSETTO:-0500
TZNAME:EST
DTSTART:20231105T060000
END:STANDARD
BEGIN:DAYLIGHT
TZOFFSETFROM:-0500
TZOFFSETTO:-0400
TZNAME:EDT
DTSTART:20240310T070000
END:DAYLIGHT
BEGIN:STANDARD
TZOFFSETFROM:-0400
TZOFFSETTO:-0500
TZNAME:EST
DTSTART:20241103T060000
END:STANDARD
BEGIN:DAYLIGHT
TZOFFSETFROM:-0500
TZOFFSETTO:-0400
TZNAME:EDT
DTSTART:20250309T070000
END:DAYLIGHT
BEGIN:STANDARD
TZOFFSETFROM:-0400
TZOFFSETTO:-0500
TZNAME:EST
DTSTART:20251102T060000
END:STANDARD
BEGIN:DAYLIGHT
TZOFFSETFROM:-0500
TZOFFSETTO:-0400
TZNAME:EDT
DTSTART:20260308T070000
END:DAYLIGHT
BEGIN:STANDARD
TZOFFSETFROM:-0400
TZOFFSETTO:-0500
TZNAME:EST
DTSTART:20261101T060000
END:STANDARD
END:VTIMEZONE
BEGIN:VEVENT
DTSTART;TZID=America/New_York:20250706T160000
DTEND;TZID=America/New_York:20250710T183000
DTSTAMP:20260423T132300
CREATED:20240430T160139Z
LAST-MODIFIED:20250515T210411Z
UID:634-1751817600-1752172200@www.phbcelkin.com
SUMMARY:Vacation Bible School
DESCRIPTION:VBS meets nightly at 6:00 pm. \nClick here to register (Google form)
URL:https://www.phbcelkin.com/event/vacation-bible-school/
LOCATION:Pleasant Hill Baptist Church\, 593 Pleasant Hill Dr.\, Elkin\, NC\, 28621\, United States
CATEGORIES:Children,Vacation Bible School,Youth
ATTACH;FMTTYPE=image/png:https://www.phbcelkin.com/wp-content/uploads/2024/04/VBS-25-event-img.png
END:VEVENT
BEGIN:VEVENT
DTSTART;TZID=America/New_York:20240526T083000
DTEND;TZID=America/New_York:20240526T100000
DTSTAMP:20260423T132300
CREATED:20240430T154735Z
LAST-MODIFIED:20240430T154735Z
UID:631-1716712200-1716717600@www.phbcelkin.com
SUMMARY:Graduate Recognition
DESCRIPTION:We will recognize all of our high school and college graduates during the morning service on May 26. Scholarships will also be awarded at that time.
URL:https://www.phbcelkin.com/event/graduate-recognition/
LOCATION:Pleasant Hill Baptist Church\, 593 Pleasant Hill Dr.\, Elkin\, NC\, 28621\, United States
CATEGORIES:Youth
ATTACH;FMTTYPE=image/png:https://www.phbcelkin.com/wp-content/uploads/2024/04/graduate-recognition.png
END:VEVENT
END:VCALENDAR