BEGIN:VCALENDAR
VERSION:2.0
PRODID:-//Pleasant Hill Baptist Church - ECPv6.15.20//NONSGML v1.0//EN
CALSCALE:GREGORIAN
METHOD:PUBLISH
X-ORIGINAL-URL:https://www.phbcelkin.com
X-WR-CALDESC:Events for Pleasant Hill Baptist Church
REFRESH-INTERVAL;VALUE=DURATION:PT1H
X-Robots-Tag:noindex
X-PUBLISHED-TTL:PT1H
BEGIN:VTIMEZONE
TZID:America/New_York
BEGIN:DAYLIGHT
TZOFFSETFROM:-0500
TZOFFSETTO:-0400
TZNAME:EDT
DTSTART:20230312T070000
END:DAYLIGHT
BEGIN:STANDARD
TZOFFSETFROM:-0400
TZOFFSETTO:-0500
TZNAME:EST
DTSTART:20231105T060000
END:STANDARD
BEGIN:DAYLIGHT
TZOFFSETFROM:-0500
TZOFFSETTO:-0400
TZNAME:EDT
DTSTART:20240310T070000
END:DAYLIGHT
BEGIN:STANDARD
TZOFFSETFROM:-0400
TZOFFSETTO:-0500
TZNAME:EST
DTSTART:20241103T060000
END:STANDARD
BEGIN:DAYLIGHT
TZOFFSETFROM:-0500
TZOFFSETTO:-0400
TZNAME:EDT
DTSTART:20250309T070000
END:DAYLIGHT
BEGIN:STANDARD
TZOFFSETFROM:-0400
TZOFFSETTO:-0500
TZNAME:EST
DTSTART:20251102T060000
END:STANDARD
BEGIN:DAYLIGHT
TZOFFSETFROM:-0500
TZOFFSETTO:-0400
TZNAME:EDT
DTSTART:20260308T070000
END:DAYLIGHT
BEGIN:STANDARD
TZOFFSETFROM:-0400
TZOFFSETTO:-0500
TZNAME:EST
DTSTART:20261101T060000
END:STANDARD
BEGIN:DAYLIGHT
TZOFFSETFROM:-0500
TZOFFSETTO:-0400
TZNAME:EDT
DTSTART:20270314T070000
END:DAYLIGHT
BEGIN:STANDARD
TZOFFSETFROM:-0400
TZOFFSETTO:-0500
TZNAME:EST
DTSTART:20271107T060000
END:STANDARD
END:VTIMEZONE
BEGIN:VEVENT
DTSTART;TZID=America/New_York:20260412T100000
DTEND;TZID=America/New_York:20260412T170000
DTSTAMP:20260423T144431
CREATED:20260212T212244Z
LAST-MODIFIED:20260407T131242Z
UID:3765-1775988000-1776013200@www.phbcelkin.com
SUMMARY:Easter Worship Celebration
DESCRIPTION:
URL:https://www.phbcelkin.com/event/easter-worship-celebration/
LOCATION:Pleasant Hill Baptist Church\, 593 Pleasant Hill Dr.\, Elkin\, NC\, 28621\, United States
CATEGORIES:Easter,Holiday
ATTACH;FMTTYPE=image/png:https://www.phbcelkin.com/wp-content/uploads/2026/02/The-Cross.png
END:VEVENT
BEGIN:VEVENT
DTSTART;TZID=America/New_York:20250420T073000
DTEND;TZID=America/New_York:20250420T083000
DTSTAMP:20260423T144431
CREATED:20250320T165425Z
LAST-MODIFIED:20250325T155416Z
UID:1610-1745134200-1745137800@www.phbcelkin.com
SUMMARY:Easter Breakfast
DESCRIPTION:Time is approximate. Breakfast will follow the 7:00 am Sunrise Service. Please sign up by April 13.
URL:https://www.phbcelkin.com/event/easter-breakfast-2/
LOCATION:Pleasant Hill Baptist Church\, 593 Pleasant Hill Dr.\, Elkin\, NC\, 28621\, United States
CATEGORIES:Easter
ATTACH;FMTTYPE=image/png:https://www.phbcelkin.com/wp-content/uploads/2025/03/easter-service.png
END:VEVENT
BEGIN:VEVENT
DTSTART;TZID=America/New_York:20250420T070000
DTEND;TZID=America/New_York:20250420T073000
DTSTAMP:20260423T144431
CREATED:20250320T165324Z
LAST-MODIFIED:20250320T165324Z
UID:1608-1745132400-1745134200@www.phbcelkin.com
SUMMARY:Easter Sunrise Service
DESCRIPTION:
URL:https://www.phbcelkin.com/event/easter-sunrise-service/
LOCATION:Pleasant Hill Baptist Church\, 593 Pleasant Hill Dr.\, Elkin\, NC\, 28621\, United States
CATEGORIES:Easter
ATTACH;FMTTYPE=image/png:https://www.phbcelkin.com/wp-content/uploads/2025/03/easter-service.png
END:VEVENT
BEGIN:VEVENT
DTSTART;TZID=America/New_York:20250413T100000
DTEND;TZID=America/New_York:20250413T110000
DTSTAMP:20260423T144431
CREATED:20250320T165229Z
LAST-MODIFIED:20250320T165229Z
UID:1606-1744538400-1744542000@www.phbcelkin.com
SUMMARY:What He's Done
DESCRIPTION:As we approach Easter\, our Palm Sunday service will be a musical celebration of what Christ did for all mankind.
URL:https://www.phbcelkin.com/event/what-hes-done/
LOCATION:Pleasant Hill Baptist Church\, 593 Pleasant Hill Dr.\, Elkin\, NC\, 28621\, United States
CATEGORIES:Easter
ATTACH;FMTTYPE=image/png:https://www.phbcelkin.com/wp-content/uploads/2025/03/easter-musical.png
END:VEVENT
BEGIN:VEVENT
DTSTART;TZID=America/New_York:20240331T060000
DTEND;TZID=America/New_York:20240331T073000
DTSTAMP:20260423T144431
CREATED:20240213T215617Z
LAST-MODIFIED:20240213T215617Z
UID:171-1711864800-1711870200@www.phbcelkin.com
SUMMARY:Easter Breakfast
DESCRIPTION:
URL:https://www.phbcelkin.com/event/easter-breakfast/
LOCATION:Pleasant Hill Baptist Church\, 593 Pleasant Hill Dr.\, Elkin\, NC\, 28621\, United States
CATEGORIES:Easter,Holiday
ATTACH;FMTTYPE=image/png:https://www.phbcelkin.com/wp-content/uploads/2024/02/SUNRISE-SERVICE-new.png
END:VEVENT
BEGIN:VEVENT
DTSTART;TZID=America/New_York:20240331T050000
DTEND;TZID=America/New_York:20240331T060000
DTSTAMP:20260423T144431
CREATED:20240213T214518Z
LAST-MODIFIED:20240213T215635Z
UID:163-1711861200-1711864800@www.phbcelkin.com
SUMMARY:Easter Sunrise Service
DESCRIPTION:Join us as we start our Easter celebrations! The service will be held in the church parking lot (cemetery side).
URL:https://www.phbcelkin.com/event/test/
LOCATION:Pleasant Hill Baptist Church\, 593 Pleasant Hill Dr.\, Elkin\, NC\, 28621\, United States
CATEGORIES:Easter,Holiday
ATTACH;FMTTYPE=image/png:https://www.phbcelkin.com/wp-content/uploads/2024/02/SUNRISE-SERVICE-new.png
END:VEVENT
END:VCALENDAR